BEGIN:VCALENDAR
VERSION:2.0
METHOD:PUBLISH
BEGIN:VEVENT
DTSTART:20220405T090000Z
DTEND:20220406T170000Z
UID:1265@events.farnboroughinternational.org
DTSTAMP:20260423T115434Z
SUMMARY:Sustainable Skies World Summit 2022
CLASS:PUBLIC
END:VEVENT
END:VCALENDAR
